BEGIN:VCALENDAR
VERSION:2.0
PRODID:-//Food Safety Brazil - ECPv6.15.18//NONSGML v1.0//EN
CALSCALE:GREGORIAN
METHOD:PUBLISH
X-ORIGINAL-URL:https://foodsafetybrazil.org
X-WR-CALDESC:Eventos para Food Safety Brazil
REFRESH-INTERVAL;VALUE=DURATION:PT1H
X-Robots-Tag:noindex
X-PUBLISHED-TTL:PT1H
BEGIN:VTIMEZONE
TZID:America/Sao_Paulo
BEGIN:STANDARD
TZOFFSETFROM:-0300
TZOFFSETTO:-0300
TZNAME:-03
DTSTART:20200101T000000
END:STANDARD
END:VTIMEZONE
BEGIN:VEVENT
DTSTART;VALUE=DATE:20221125
DTEND;VALUE=DATE:20221127
DTSTAMP:20260420T125940
CREATED:20221003T105343Z
LAST-MODIFIED:20221003T105343Z
UID:159906-1669334400-1669507199@foodsafetybrazil.org
SUMMARY:CASA Open
DESCRIPTION:Casa Open é um evento para quem acredita que segurança do alimentos não se faz por decretos ou procedimentos. É para quem nunca dissocia as pessoas das práticas necessárias para a conformidade dos processos e produtos. \nProgramação \n         Dia 25.11 \n\n8h00 Recepção\, credenciamento e entretenimento.\n8h30 Entrando em CASA com Crístian Roque e Juliane Dias\, Co-Fundadores da CASA.\n9h00 Da medição aos ajustes de rota: aprendizados sobre cultura positiva de Segurança dos alimentos com Ingrid Schultz ?.\n10h00 Momentos juntos com café quentinho.\n10h30 Aula de abertura – Como se forma a Cultura nas Organizações com Crístian Roque.\n11h30 Dinâmica psicológica da inter-relação multinível na Segurança de Alimentos com Daniel Gonçalves.\n12h30 Almoço.\n14h00 Comunicação Positiva: o jeito Total Safe de viver a segurança dos alimentos com Alessandra Saadi ?.\n15h00 Abrindo a caixa de ferramentas com Crístian Roque .\n16h00 Momentos juntos com café quentinho.\n16h30 Hora dos Jogos.\n16h45 Sobre amanhã e dinâmica de encerramento do dia 01.\nDia 26.11\n8h30 Apresentação da Mentoria.\n8h45 Aula queridinhas 1.\n9h30 Rodada de Mentoria 1.\n10h00 Recarga e pão de queijo.\n10h15 Aulas queridinhas 2.\n11h00 Rodada de Mentoria 2.\n11h30 Rodada de Mentoria 3.\n12h00 Almoço.\n13h30 Aula queridinhas 3.\n14h15 Rodada de Mentoria 4.\n14h45 Dinâmica.\n15h15 Rodada de Mentoria 5.\n15h45  Recarga e bolo da tarde.\n16h00 Aulas queridinhas 4.\n17h00 Gran finale.
URL:https://foodsafetybrazil.org/eventos-fsb/casa-open/
LOCATION:Campinas
ATTACH;FMTTYPE=image/jpeg:https://foodsafetybrazil.org/wp-content/uploads/2022/10/CASA.jpeg
END:VEVENT
BEGIN:VEVENT
DTSTART;TZID=America/Sao_Paulo:20221109T080000
DTEND;TZID=America/Sao_Paulo:20221109T170000
DTSTAMP:20260420T125940
CREATED:20221231T120011Z
LAST-MODIFIED:20221103T232822Z
UID:159760-1667980800-1668013200@foodsafetybrazil.org
SUMMARY:V Fórum de Segurança de Alimentos BRCGS
DESCRIPTION:A BRCGS informa o adiamento do V Fórum de Segurança de Alimentos BRCGS\, que aconteceria no dia 9 de novembro de 2022\, em São Caetano do Sul – SP. \nEm virtude das manifestações que ocupam as rodovias de todo o país\, e com receio de que isso possa atrapalhar ou impedir a chegada de participantes e palestrantes ao evento\, a BRCGS\, junto QIMA/WQS e os demais patrocinadores optaram\, de comum acordo\, pelo adiamento do fórum\, pois priorizamos o bem-estar e a segurança de todos. A nova data prevista para o evento é dia 30 de março de 2023. \nPara aqueles que se inscreveram com antecedência e desejam manter a participação\, a inscrição continuará válida para o próximo ano. Quem\, porventura\, não puder participar na data estipulada\, o reembolso da inscrição deverá ser solicitado através do e-mail info.wqs@wqscert.com \nCertos de que o V Fórum de Segurança de Alimentos BRCGS em 2023 será excepcional\, esperamos contar com sua participação e agradecemos a compreensão de todos! \nAs inscrições continuam abertas até o dia 15/03/2023\, através do link https://www.even3.com.br/v-forum-de-seguranca-de-alimentos-brcgs/
URL:https://foodsafetybrazil.org/eventos-fsb/v-forum-de-seguranca-de-alimentos-brcgs/
ATTACH;FMTTYPE=image/jpeg:https://foodsafetybrazil.org/wp-content/uploads/2022/09/WhatsApp-Image-2022-11-03-at-07.33.45.jpeg
END:VEVENT
BEGIN:VEVENT
DTSTART;TZID=America/Sao_Paulo:20221107T080000
DTEND;TZID=America/Sao_Paulo:20221109T170000
DTSTAMP:20260420T125940
CREATED:20221002T194426Z
LAST-MODIFIED:20221002T194617Z
UID:159885-1667808000-1668013200@foodsafetybrazil.org
SUMMARY:FestQuali Paraná 2022
DESCRIPTION:FestQuali Paraná 2022\, dias 07\, 08 e 09 de novembro \n  \nO maior e melhor FestQuali vai acontecer na Semana da Qualidade\, em amplo espaço com cinco ambientes no Encontro da Amazônia em Curitiba/PR. Um evento híbrido\, com +80 atividades online e +70 atividades presenciais\, com diversas atrações\, dentre elas: \n  \n– O FestQuali C-level\, que será realizado na FAE Business Scholl\, no dia 08/11\, com palestras voltadas a alta direção. As palestras serão realizadas por C-levels do Flamengo\, Carrefour\, Renault\, Globo\, dentre outras empresas; \n– O Jantar Mestres da Qualidade\, com a participação dos inscritos na modalidade presencial\, em um restaurante conceituado de Curitiba\, o Velho Madalosso; \n– Oficinas de “Pão de Queijo”\, “Hambúrguer Artesanal” e “Bolo Fit”; \n– Apresentação de trabalhos acadêmicos nas áreas da Qualidade\, Inovação\, Ambiental\, Social e/ou Gestão\, dentre outras atividades. \nO evento está imperdível e você pode escolher como participar: PRESENCIAL ou ONLINE? \nSaiba mais em https://festquali.com.br/festqualiparana/ \nRedes sociais:\nhttps://www.instagram.com/festquali\nhttps://www.linkedin.com/company/festquali\nhttps://www.youtube.com/c/FestQuali
URL:https://foodsafetybrazil.org/eventos-fsb/festquali-parana-2022/
LOCATION:Curitiba
ATTACH;FMTTYPE=image/png:https://foodsafetybrazil.org/wp-content/uploads/2022/10/FestQuali.png
END:VEVENT
BEGIN:VEVENT
DTSTART;VALUE=DATE:20221020
DTEND;VALUE=DATE:20221021
DTSTAMP:20260420T125940
CREATED:20221005T143450Z
LAST-MODIFIED:20221007T095344Z
UID:159942-1666224000-1666310399@foodsafetybrazil.org
SUMMARY:Contaminantes de água - ILSI
DESCRIPTION:
URL:https://foodsafetybrazil.org/eventos-fsb/contaminantes-de-agua-ilsi/
LOCATION:São Paulo\, R. Funchal\, 281 - Vila Olímpia\, São Paulo - SP\, São Paulo/SP\, SP\, 04551-060\, Brasil
ATTACH;FMTTYPE=image/jpeg:https://foodsafetybrazil.org/wp-content/uploads/2022/10/ILSI.jpeg
END:VEVENT
BEGIN:VEVENT
DTSTART;TZID=America/Sao_Paulo:20220928T180000
DTEND;TZID=America/Sao_Paulo:20220928T200000
DTSTAMP:20260420T125940
CREATED:20220927T175438Z
LAST-MODIFIED:20220927T175438Z
UID:159817-1664388000-1664395200@foodsafetybrazil.org
SUMMARY:Lançamento do Livro "Microbiologia de Alimentos Fermentados"
DESCRIPTION:Convidando todos os colegas a participarem do lançamento oficial do livro “Microbiologia de Alimentos Fermentados”\, que organizei junto ao meu parceiro Prof. Juliano De Dea Lindner e publicado pela Editora Blucher!
URL:https://foodsafetybrazil.org/eventos-fsb/lancamento-do-livro-microbiologia-de-alimentos-fermentados/
ATTACH;FMTTYPE=image/jpeg:https://foodsafetybrazil.org/wp-content/uploads/2022/09/1664300734434.jpeg
END:VEVENT
BEGIN:VEVENT
DTSTART;TZID=America/Sao_Paulo:20220822T080000
DTEND;TZID=America/Sao_Paulo:20220914T170000
DTSTAMP:20260420T125940
CREATED:20220822T104615Z
LAST-MODIFIED:20220822T104615Z
UID:159395-1661155200-1663174800@foodsafetybrazil.org
SUMMARY:Global Food Safety Talks - Cadeia de custódia
DESCRIPTION:A certificação GLOBALG.A.P. para Cadeia de Custódia (CoC) é voltada para intermediários que compram e revendem produtos certificados – com ou sem posse física dos produtos. Seus critérios fornecem segurança através de requisitos rigorosos para a segregação\, manuseio e rastreamento adequados de produtos na cadeia de suprimentos. Isso impede que produtos originários de processos de produção certificados GLOBALG.A.P. sejam substituídos ou misturados com aqueles de fazendas não certificadas\, seja por erro involuntário ou por ganho econômico. \nFraude e integridade alimentar são desafios crescentes para o setor de alimentos certificados – pensando nisso o programa do GLOBALG.A.P. optou por seguir adiante no fortalecimento do sistema GLOBALG.A.P.\, através da exigência a estrita implementação do GLOBALG.A.P. Padrão de Cadeia de Custódia (CoC) a partir de 2023.\nPara conhecer mais sobre esse padrão\, estamos realizando um webinar\, em parceria com o GLOBALG.A.P. onde abordaremos: \nPara conhecer mais sobre esse padrão\, estamos realizando um webinar\, em parceria com o GLOBALG.A.P. onde abordaremos:\n• A quem se aplica a norma de cadeia de custódia;\n• Segregação e rastreabilidade;\n• Como obter a certificação e quais as vantagens.
URL:https://foodsafetybrazil.org/eventos-fsb/global-food-safety-talks-cadeia-de-custodia/
ATTACH;FMTTYPE=image/jpeg:https://foodsafetybrazil.org/wp-content/uploads/2022/08/Invite.jpg
END:VEVENT
BEGIN:VEVENT
DTSTART;TZID=America/Sao_Paulo:20220815T143000
DTEND;TZID=America/Sao_Paulo:20220815T170000
DTSTAMP:20260420T125940
CREATED:20220720T142225Z
LAST-MODIFIED:20220720T142225Z
UID:159005-1660573800-1660582800@foodsafetybrazil.org
SUMMARY:Food Safety Talks: Materiais de contato
DESCRIPTION:A gestão de materiais de contato é mandatória para toda indústria que fabrica alimentos e bebidas\, assim como para fornecedores de equipamentos\, tubulações e utensílios e todos os materiais que terão contato direto com os alimentos.\nEngajada em difundir o conceito de segurança dos alimentos\, a QIMA/WQS criou o Food Safety Talks\, uma série de conversas sobre as mais recentes atualizações e os temas mais relevantes do mercado. No dia 15 de agosto\, o webinar vai trazer como pauta os principais desafios sobre materiais de contato na norma BRCGS. Nesse encontro iremos abordar:\n• Racional regulatório para conformidade de materiais em contato com alimentos\n• Dificuldades do segmento e sugestões de ações\n• Requisitos da norma BRCGS sobre equipamentos de contato. \nInscreva-se no link:  https://us06web.zoom.us/webinar/register/3816563522849/WN_fusm13KAQMa8CyfWo4sjOA
URL:https://foodsafetybrazil.org/eventos-fsb/food-safety-talks-materiais-de-contato/
ATTACH;FMTTYPE=image/jpeg:https://foodsafetybrazil.org/wp-content/uploads/2022/07/dois.jpg
END:VEVENT
BEGIN:VEVENT
DTSTART;TZID=America/Sao_Paulo:20220811T090000
DTEND;TZID=America/Sao_Paulo:20220811T110000
DTSTAMP:20260420T125940
CREATED:20220612T155232Z
LAST-MODIFIED:20220612T155232Z
UID:158191-1660208400-1660215600@foodsafetybrazil.org
SUMMARY:"Tópicos Avançados sobre Auditorias de Sistemas de Gestão"
DESCRIPTION:O evento é gratuito e o participante pode escolher participar de um ou mais temas\, sendo eles: \n11 AGO – Auditando Cultura \n18 AGO – Auditando a Gestão de Riscos \n25 AGO – Auditando o processo de Tomada de Decisões \n13 OUT – Auditando diferentes formas de Organização do Trabalho/Estruturas Organizacionais \n27 OUT – Auditando CRC\, ESG\, Alta Direção e Órgão Diretivos \nPara efetuar a inscrição\, é necessário que o usuário se cadastre\, informando os dados pré-estabelecidos pela organização do evento. A Organização não se responsabiliza por informações incorretas no momento da inscrição. \nSerá aceita somente uma inscrição por e-mail\, ou seja\, um e-mail não pode ser usado por outra pessoa que deseja se inscrever no evento. \nA inscrição é válida para todos os dias de evento não podendo ser transferida a terceiros\, salvo quando solicitado conforme item a seguir. \nA inscrição ocorrerá exclusivamente pela internet\, por meio do site www.festquali.com.br
URL:https://foodsafetybrazil.org/eventos-fsb/topicos-avancados-sobre-auditorias-de-sistemas-de-gestao/
CATEGORIES:Eventos
ATTACH;FMTTYPE=image/jpeg:https://foodsafetybrazil.org/wp-content/uploads/2022/06/ATS.jpeg
END:VEVENT
BEGIN:VEVENT
DTSTART;TZID=America/Sao_Paulo:20220809T143000
DTEND;TZID=America/Sao_Paulo:20220809T170000
DTSTAMP:20260420T125940
CREATED:20220720T141843Z
LAST-MODIFIED:20220720T141843Z
UID:159002-1660055400-1660064400@foodsafetybrazil.org
SUMMARY:Bem-estar Animal no Confinamento de Bovinos
DESCRIPTION:A procedência dos produtos levados à mesa e as condições em que os animais foram criados são informações cada vez mais exigidas pelos consumidores. Em alinhamento a essas reivindicações e às demandas do mercado por qualidade e transparência na produção pecuária\, inovamos mais uma vez lançando em nosso portfólio de soluções a certificação de Bem-estar Animal para Confinamento de Bovinos. \nA certificação foi desenvolvida em parceria com a BE.Animal e o Grupo ETCO da UNESP de Jaboticabal\, SP e da UFMT de Sinop\, MT. Para saber mais sobre essa nova certificação\, realizaremos um Webinar que será ministrado pelo Prof. Mateus Paranhos e pelo Diretor Comercial da QIMA/WQS\, Luiz Freitas\, onde serão abordados os tópicos:\n• Como o bem-estar dos animais contribui para a sustentabilidade dos confinamentos brasileiros\n• Como o processo de certificação do confinamento pode colaborar tanto do ponto de vista econômico\, comercial como para a construção de uma imagem positiva do negócio. \nInscrições pelo link: https://us06web.zoom.us/webinar/register/9816581744592/WN_jvlny3EmR2yM_NGopALZFg
URL:https://foodsafetybrazil.org/eventos-fsb/bem-estar-animal-no-confinamento-de-bovinos/
ATTACH;FMTTYPE=image/jpeg:https://foodsafetybrazil.org/wp-content/uploads/2022/07/Um.jpg
END:VEVENT
BEGIN:VEVENT
DTSTART;TZID=America/Sao_Paulo:20220726T190000
DTEND;TZID=America/Sao_Paulo:20220726T210000
DTSTAMP:20260420T125940
CREATED:20220627T211324Z
LAST-MODIFIED:20220627T211324Z
UID:158481-1658862000-1658869200@foodsafetybrazil.org
SUMMARY:ISO 19001:2018 - Diretrizes para Auditorias de Sistema de Gestão
DESCRIPTION:O evento é gratuito tendo como conteúdo: \n\n\n\n– Princípios de auditoria \n\n\n\n\n\n\n– Competência e avaliação de auditores \n– Comunicação no processo de auditoria \n– Gestão de conflitos \n– Planejamento e programa de auditoria \n– Realização da auditoria \n\n\n\nPara efetuar a inscrição\, é necessário que o usuário se cadastre\, informando os dados pré-estabelecidos pela organização do evento. A Organização não se responsabiliza por informações incorretas no momento da inscrição. \nSerá aceita somente uma inscrição por e-mail\, ou seja\, um e-mail não pode ser usado por outra pessoa que deseja se inscrever no evento. \nA inscrição é válida para todos os dias de evento não podendo ser transferida a terceiros\, salvo quando solicitado conforme item a seguir. \nA inscrição ocorrerá exclusivamente pela internet\, por meio do site https://lp.egoi.page/2epe65XCe2c70c1aa5-/minicursos
URL:https://foodsafetybrazil.org/eventos-fsb/iso-190012018-diretrizes-para-auditorias-de-sistema-de-gestao/
ATTACH;FMTTYPE=image/png:https://foodsafetybrazil.org/wp-content/uploads/2022/06/Minicurso_Julia-19001-YT.png
END:VEVENT
BEGIN:VEVENT
DTSTART;TZID=America/Sao_Paulo:20220719T070000
DTEND;TZID=America/Sao_Paulo:20220719T210000
DTSTAMP:20260420T125940
CREATED:20220627T215312Z
LAST-MODIFIED:20220627T215312Z
UID:158491-1658214000-1658264400@foodsafetybrazil.org
SUMMARY:Análise de Certificado de Calibração
DESCRIPTION:O evento é gratuito tendo como conteúdo: \n\n – Apresentação das normas\n\n\n\n\n– Organismos Certificadores de sistema e Acreditação foco nos OACs e padrões. \n– Principais Conceitos do Vocabulário Internacional de Metrologia e outras fontes\n• Instrumento de Medição \n• Calibração \n• Ajuste de um sistema de medição \n• Erro de Medição \n• Resolução dos instrumentos de medição \n• Rastreabilidade Metrológica \n• Cadeia de Rastreabilidade \n\n\n\nPara efetuar a inscrição\, é necessário que o usuário se cadastre\, informando os dados pré-estabelecidos pela organização do evento. A Organização não se responsabiliza por informações incorretas no momento da inscrição. \nSerá aceita somente uma inscrição por e-mail\, ou seja\, um e-mail não pode ser usado por outra pessoa que deseja se inscrever no evento. \nA inscrição é válida para todos os dias de evento não podendo ser transferida a terceiros\, salvo quando solicitado conforme item a seguir. \nA inscrição ocorrerá exclusivamente pela internet\, por meio do site https://lp.egoi.page/2epe65XCe2c70c1aa5-/minicursos
URL:https://foodsafetybrazil.org/eventos-fsb/analise-de-certificado-de-calibracao/
ATTACH;FMTTYPE=image/png:https://foodsafetybrazil.org/wp-content/uploads/2022/06/Minicurso_Zulmiriana-ACC-01-YT.png
END:VEVENT
BEGIN:VEVENT
DTSTART;TZID=America/Sao_Paulo:20220714T190000
DTEND;TZID=America/Sao_Paulo:20220714T210000
DTSTAMP:20260420T125940
CREATED:20220627T212013Z
LAST-MODIFIED:20220627T212013Z
UID:158484-1657825200-1657832400@foodsafetybrazil.org
SUMMARY:ISO 14001:2015 - Sistema de Gestão Ambiental
DESCRIPTION:O evento é gratuito tendo como conteúdo: \n\n\n\n– Visão Geral da ISO 14000 \n\n\n\n\n\n\n– Abordagem da NBR ISO 14001:2015 para análise de contexto\, riscos e ciclo da vida \n– Identificação e avaliação de aspectos e impactos ambientais. \n\n\n\nPara efetuar a inscrição\, é necessário que o usuário se cadastre\, informando os dados pré-estabelecidos pela organização do evento. A Organização não se responsabiliza por informações incorretas no momento da inscrição. \nSerá aceita somente uma inscrição por e-mail\, ou seja\, um e-mail não pode ser usado por outra pessoa que deseja se inscrever no evento. \nA inscrição é válida para todos os dias de evento não podendo ser transferida a terceiros\, salvo quando solicitado conforme item a seguir. \nA inscrição ocorrerá exclusivamente pela internet\, por meio do site https://lp.egoi.page/2epe65XCe2c70c1aa5-/minicursos \n 
URL:https://foodsafetybrazil.org/eventos-fsb/iso-140012015-sistema-de-gestao-ambiental/
ATTACH;FMTTYPE=image/png:https://foodsafetybrazil.org/wp-content/uploads/2022/06/Minicurso_Julia-14001-YT.png
END:VEVENT
BEGIN:VEVENT
DTSTART;TZID=America/Sao_Paulo:20220712T190000
DTEND;TZID=America/Sao_Paulo:20220712T210000
DTSTAMP:20260420T125940
CREATED:20220627T214939Z
LAST-MODIFIED:20220627T214939Z
UID:158488-1657652400-1657659600@foodsafetybrazil.org
SUMMARY:ISO 45001:2018 - Sistema de Gestão de Saúde e Segurança Ocupacional
DESCRIPTION:O evento é gratuito tendo como conteúdo: \n\n\n – Identificação das partes interessadas\n\n\n\n\n\n– Mapeamento de Processos \n– Definição da Liderança \n– Política da Qualidade \n– Planejamento do Sistema de Gestão \n\n\n\nPara efetuar a inscrição\, é necessário que o usuário se cadastre\, informando os dados pré-estabelecidos pela organização do evento. A Organização não se responsabiliza por informações incorretas no momento da inscrição. \nSerá aceita somente uma inscrição por e-mail\, ou seja\, um e-mail não pode ser usado por outra pessoa que deseja se inscrever no evento. \nA inscrição é válida para todos os dias de evento não podendo ser transferida a terceiros\, salvo quando solicitado conforme item a seguir. \nA inscrição ocorrerá exclusivamente pela internet\, por meio do site https://lp.egoi.page/2epe65XCe2c70c1aa5-/minicursos \n 
URL:https://foodsafetybrazil.org/eventos-fsb/iso-450012018-sistema-de-gestao-de-saude-e-seguranca-ocupacional/
ATTACH;FMTTYPE=image/png:https://foodsafetybrazil.org/wp-content/uploads/2022/06/Minicurso_Raphael-45001-YT.png
END:VEVENT
BEGIN:VEVENT
DTSTART;TZID=America/Sao_Paulo:20220707T190000
DTEND;TZID=America/Sao_Paulo:20220707T210000
DTSTAMP:20260420T125940
CREATED:20220627T210236Z
LAST-MODIFIED:20220627T210236Z
UID:158473-1657220400-1657227600@foodsafetybrazil.org
SUMMARY:ISO 9001:2015 - Sistema de Gestão da Qualidade
DESCRIPTION:Conteúdo \n\n\n\n\n\n\n\n\n– Identificação das partes interessadas \n– Mapeamento de Processos \n– Definição da Liderança \n– Política da Qualidade \n– Planejamento do Sistema de Gestão \nInscreva-se: https://lp.egoi.page/2epe65XCe2c70c1aa5-/minicursos
URL:https://foodsafetybrazil.org/eventos-fsb/iso-90012015-sistema-de-gestao-da-qualidade/
ATTACH;FMTTYPE=image/png:https://foodsafetybrazil.org/wp-content/uploads/2022/06/Minicurso_Julia-9001-YT.png
END:VEVENT
BEGIN:VEVENT
DTSTART;TZID=America/Sao_Paulo:20220614T190000
DTEND;TZID=America/Sao_Paulo:20220614T200000
DTSTAMP:20260420T125940
CREATED:20220607T221748Z
LAST-MODIFIED:20220607T221748Z
UID:158097-1655233200-1655236800@foodsafetybrazil.org
SUMMARY:VII Food Safety Brazil Meeting
DESCRIPTION:
URL:https://foodsafetybrazil.org/eventos-fsb/vii-food-safety-brazil-meeting/
ATTACH;FMTTYPE=image/jpeg:https://foodsafetybrazil.org/wp-content/uploads/2022/06/WhatsApp-Image-2022-05-31-at-08.24.35.jpeg
END:VEVENT
BEGIN:VEVENT
DTSTART;TZID=America/Sao_Paulo:20220419T140000
DTEND;TZID=America/Sao_Paulo:20220419T170000
DTSTAMP:20260420T125940
CREATED:20220413T001344Z
LAST-MODIFIED:20220413T001526Z
UID:157477-1650376800-1650387600@foodsafetybrazil.org
SUMMARY:Food Safety Talks - Destaques da Conferência GFSI 2022
DESCRIPTION:
URL:https://foodsafetybrazil.org/eventos-fsb/food-safety-talks-destaques-da-conferencia-gfsi-2022/
CATEGORIES:Eventos
ATTACH;FMTTYPE=image/jpeg:https://foodsafetybrazil.org/wp-content/uploads/2022/04/Linkedin-scaled.jpg
END:VEVENT
BEGIN:VEVENT
DTSTART;TZID=America/Sao_Paulo:20220322T140000
DTEND;TZID=America/Sao_Paulo:20220322T170000
DTSTAMP:20260420T125940
CREATED:20220321T120707Z
LAST-MODIFIED:20220321T121129Z
UID:157196-1647957600-1647968400@foodsafetybrazil.org
SUMMARY:Webinar QIMAWQS 22/03 às 14h
DESCRIPTION:
URL:https://foodsafetybrazil.org/eventos-fsb/webinar-qimawqs-22-03-as-14h/
CATEGORIES:Eventos
ATTACH;FMTTYPE=image/jpeg:https://foodsafetybrazil.org/wp-content/uploads/2022/03/Linkedin-scaled.jpg
END:VEVENT
BEGIN:VEVENT
DTSTART;TZID=America/Sao_Paulo:20210707T140000
DTEND;TZID=America/Sao_Paulo:20210707T160000
DTSTAMP:20260420T125940
CREATED:20210621T175355Z
LAST-MODIFIED:20210621T175556Z
UID:153355-1625666400-1625673600@foodsafetybrazil.org
SUMMARY:Webinar | Como melhorar a lavagem de tanques e economizar água!
DESCRIPTION:Webinar sobre Lavagem de Tanques\n\nFique por dentro das melhores práticas para realizar uma eficiente lavagem de tanques e economizar água no processo. \nInforme seus dados ao lado para que possamos desenvolver o melhor conteúdo para você!  \nFaremos uma apresentação sobre: \n– Os métodos de limpeza\n– Economia de água\, químicos\, tempo e mão de obra\n– Os tipos de lavadores existentes (vantagens e desvantagens)\n– Automatização e as principais dúvidas e dificuldades para realizar uma limpeza de tanque eficiente e econômica de verdade!
URL:https://foodsafetybrazil.org/eventos-fsb/webinar-sobre-lavagem-de-tanques/
CATEGORIES:Eventos
ATTACH;FMTTYPE=image/jpeg:https://foodsafetybrazil.org/wp-content/uploads/2021/06/webinar-como-melhorar-a-lavagem-de-tanques-e-economizar-agua-7-de-julho.jpeg
END:VEVENT
BEGIN:VEVENT
DTSTART;TZID=America/Sao_Paulo:20210617T160000
DTEND;TZID=America/Sao_Paulo:20210617T173000
DTSTAMP:20260420T125940
CREATED:20210611T183952Z
LAST-MODIFIED:20210611T183952Z
UID:153202-1623945600-1623951000@foodsafetybrazil.org
SUMMARY:6º Fórum Portal e-food - Gestão de Alergênicos
DESCRIPTION:Descrição do evento\n> Neste fórum conversaremos sobre “Gestão de Alergênicos” \n> Este evento acontecerá via Zoom. As instruções de acesso serão fornecidas pela organização próximo ao início do evento. \n> Ao iniciar o acesso à sala da reunião no dia do evento\, identifique-se com nome e sobrenome. \n> Especialistas confirmadas: Lívia Lopes (Food Solution)\, Danielle Almeida (3M)\, Celi Argôlo  (C.A QualiPro)\, Luciana Salles (Portal e-food) e Natália Lima (Portal e-food). \n> Evento com emissão de certificado.
URL:https://foodsafetybrazil.org/eventos-fsb/6o-forum-portal-e-food-gestao-de-alergenicos/
CATEGORIES:Eventos
ATTACH;FMTTYPE=image/png:https://foodsafetybrazil.org/wp-content/uploads/2021/06/21-05-e-food-Planejamento-Junho-6o-Forum-e-food-Banner-Sympla.png
END:VEVENT
END:VCALENDAR